BEGIN:VCALENDAR
VERSION:2.0
PRODID:-//ChamberMaster//Event Calendar 2.0//EN
METHOD:PUBLISH
X-PUBLISHED-TTL:P3D
REFRESH-INTERVAL:P3D
CALSCALE:GREGORIAN
BEGIN:VEVENT
DTSTART:20300122T130000Z
DTEND:20300122T140000Z
X-MICROSOFT-CDO-ALLDAYEVENT:FALSE
SUMMARY:Ambassador Committee Meeting
DESCRIPTION:Ambassador Committee Meeting
X-ALT-DESC;FMTTYPE=text/html:Ambassador Committee Meeting&nbsp\;
LOCATION:Virtual
UID:e.2933.3619
SEQUENCE:3
DTSTAMP:20260421T214836Z
URL:https://www.royaloakchamber.com/events/details/ambassador-committee-meeting-01-22-2030-3619
END:VEVENT

END:VCALENDAR
