BEGIN:VCALENDAR
VERSION:2.0
PRODID:-//ChamberMaster//Event Calendar 2.0//EN
METHOD:PUBLISH
X-PUBLISHED-TTL:P3D
REFRESH-INTERVAL:P3D
CALSCALE:GREGORIAN
BEGIN:VEVENT
DTSTART:20200917T200000Z
DTEND:20200917T230000Z
X-MICROSOFT-CDO-ALLDAYEVENT:FALSE
SUMMARY:Art on 5th Avenue
DESCRIPTION:The Royal Oak Chamber of Commerce presents Art on Fifth Avenue.  A new mini-exhibition that showcases four area artists\, each Thursday evening from 4-7pm in September.  Art will be for sale! A different medium will be featured each week. All artists and public will be expected to follow social distancing rules with masks.Join us in supporting our local artists.\n\nSeptember -Clay Artists\n\nSeptember 10-Glass Artists\n\nSeptember 17-Metal Artists\n\nSeptember 24-Jewlery Artists
X-ALT-DESC;FMTTYPE=text/html:<div class="kvgmc6g5 cxmmr5t8 oygrvhab hcukyx3x c1et5uql ii04i59q" style="color: rgb(5\, 5\, 5)\; font-family: inherit\; font-size: 14.86px\; font-style: normal\; font-variant: normal\; font-weight: 400\; letter-spacing: normal\; margin-bottom: 0px\; margin-left: 0px\; margin-right: 0px\; margin-top: 0px\; orphans: 2\; overflow-wrap: break-word\; text-align: left\; text-decoration: none\; text-indent: 0px\; text-transform: none\; -webkit-text-stroke-width: 0px\; white-space: pre-wrap\; word-spacing: 0px\;">\n<div dir="ltr" style="font-family: inherit\; text-align: left\;">The Royal Oak Chamber of Commerce presents Art on Fifth Avenue.&nbsp\; A new mini-exhibition that showcases four area artists\, each Thursday evening from 4-7pm in September.&nbsp\; Art will be for sale! A different medium will be featured each week. All artists and public will be expected to follow social distancing rules with masks.Join us in supporting our local artists.<br />\nSeptember -Clay Artists<br />\nSeptember 10-Glass Artists<br />\nSeptember 17-Metal Artists<br />\nSeptember 24-Jewlery Artists</div>\n</div>\n
LOCATION:5th Avenue and Washington
UID:e.2933.3369
SEQUENCE:3
DTSTAMP:20260425T203413Z
URL:https://www.royaloakchamber.com/events/details/art-on-5th-avenue-09-17-2020-3369
END:VEVENT

END:VCALENDAR
