BEGIN:VCALENDAR
VERSION:2.0
PRODID:-//ChamberMaster//Event Calendar 2.0//EN
METHOD:PUBLISH
X-PUBLISHED-TTL:P3D
REFRESH-INTERVAL:P3D
CALSCALE:GREGORIAN
BEGIN:VEVENT
DTSTART:20201215T133000Z
DTEND:20201215T140000Z
X-MICROSOFT-CDO-ALLDAYEVENT:FALSE
SUMMARY:Chamber Board of Directors Meeting
DESCRIPTION:Monthly meeting of the Chamber Board of Directors and Staff.
X-ALT-DESC;FMTTYPE=text/html:Monthly meeting of the Chamber Board of Directors and Staff.
LOCATION:200 S. Washington Avenue\, Royal Oak\, MI 48067
UID:e.2933.1680
SEQUENCE:3
DTSTAMP:20260425T154143Z
URL:https://www.royaloakchamber.com/events/details/chamber-board-of-directors-meeting-12-15-2020-1680
END:VEVENT

END:VCALENDAR
