BEGIN:VCALENDAR
VERSION:2.0
PRODID:-//ChamberMaster//Event Calendar 2.0//EN
METHOD:PUBLISH
X-PUBLISHED-TTL:P3D
REFRESH-INTERVAL:P3D
CALSCALE:GREGORIAN
BEGIN:VEVENT
DTSTART:20201216T140000Z
DTEND:20201216T163000Z
X-MICROSOFT-CDO-ALLDAYEVENT:FALSE
SUMMARY:Five Steps to LinkedIn Mastery 2020
DESCRIPTION:LinkedIn really is a power tool. It's part SEO monster\, Part contact manager\, Part resume\, Part research tool and it's ALL business. While Facebook looks like any number of reality TV shows\, LinkedIn is the business documentary you need to watch. You've done the "google myself" thing\, right? Most people are surprised (and excited) to find their LinkedIn profile is the first result. Since Google uses LinkedIn that well\, shouldn't you? LinkedIn really is a power tool. It's part SEO monster\, Part contact manager\, Part resume\, Part research tool and it's ALL business. This workshop is designed to help existing and startup businesses Presented by Terry Bean\, Founder of Networked Inc. and Motor City Connect
X-ALT-DESC;FMTTYPE=text/html:LinkedIn really is a power tool. It&#39\;s part SEO monster\, Part contact manager\, Part resume\, Part research tool and it&#39\;s ALL business. While Facebook looks like any number of reality TV shows\, LinkedIn is the business documentary you need to watch. You&#39\;ve done the &quot\;google myself&quot\; thing\, right? Most people are surprised (and excited) to find their LinkedIn profile is the first result. Since Google uses LinkedIn that well\, shouldn&#39\;t you? LinkedIn really is a power tool. It&#39\;s part SEO monster\, Part contact manager\, Part resume\, Part research tool and it&#39\;s ALL business. This workshop is designed to help existing and startup businesses Presented by Terry Bean\, Founder of Networked Inc. and Motor City Connect
LOCATION:Webinar
UID:e.2933.3471
SEQUENCE:3
DTSTAMP:20260424T082209Z
URL:https://www.royaloakchamber.com/events/details/five-steps-to-linkedin-mastery-2020-3471
END:VEVENT

END:VCALENDAR
