BEGIN:VCALENDAR
VERSION:2.0
PRODID:-//ChamberMaster//Event Calendar 2.0//EN
METHOD:PUBLISH
X-PUBLISHED-TTL:P3D
REFRESH-INTERVAL:P3D
CALSCALE:GREGORIAN
BEGIN:VEVENT
DTSTART:20201201T180000Z
DTEND:20201201T210000Z
X-MICROSOFT-CDO-ALLDAYEVENT:FALSE
SUMMARY:Free Mask Give-a-Way courtsey of Ascend Performance Materials
DESCRIPTION:To help keep your employees safe and comfortable during this busy shopping season\, the Royal Oak Chamber has partnered with local manufacturer Ascend Performance Materials\, to provide you with a set of Acteev Protect Reusable Nonwoven masks\, free of charge. Acteev's antimicrobial technology kills off all the germs that cause the masks to pick up bad odors. Testing shows the Acteev technology deactivates harmful bacteria and airborne viruses.\n\nQuestions? Christinep@royaloakchamber.com
X-ALT-DESC;FMTTYPE=text/html:<p class="_04xlpA direction-ltr align-start para-style-body" style="line-height: 1.1\; font-family: &quot\;YADWjpfPmdk 0&quot\;\, _fb_\, auto\; font-size: 32.46px\; text-transform: none\; color: rgb(80\, 80\, 80)\;"><span style="font-size:18px\;"><span class="JsGRdQ" style="font-weight: 400\; font-style: normal\; color: rgb(80\, 80\, 80)\; text-decoration: none\;">To help keep your employees safe and comfortable during this busy shopping season\, the</span><span class="JsGRdQ" style="font-weight: 400\; font-style: normal\; color: rgb(70\, 174\, 124)\; text-decoration: none\;"> </span><span class="JsGRdQ" style="font-weight: 700\; font-style: normal\; color: rgb(51\, 136\, 68)\; text-decoration: none\;">Royal Oak Chamber</span><span class="JsGRdQ" style="font-weight: 400\; font-style: normal\; color: rgb(70\, 174\, 124)\; text-decoration: none\;"> </span><span class="JsGRdQ" style="font-weight: 400\; font-style: normal\; color: rgb(80\, 80\, 80)\; text-decoration: none\;">has partnered with local manufacturer </span><span class="JsGRdQ" style="font-weight: 700\; font-style: normal\; color: rgb(51\, 136\, 68)\; text-decoration: none\;">Ascend Performance Materials</span><span class="JsGRdQ" style="font-weight: 400\; font-style: normal\; color: rgb(51\, 136\, 68)\; text-decoration: none\;">\,</span><span class="JsGRdQ" style="font-weight: 400\; font-style: normal\; color: rgb(80\, 80\, 80)\; text-decoration: none\;"> to provide you with a set of Acteev Protect Reusable Nonwoven masks\, free of charge.</span><span class="JsGRdQ white-space-prewrap" style="font-weight: 400\; font-style: normal\; color: rgb(80\, 80\, 80)\; text-decoration: none\;"> </span></span><span style="font-size:14px\;"><span style="font-size:18px\;"><span class="JsGRdQ" style="font-weight: 400\; font-style: normal\; color: rgb(51\, 136\, 68)\; text-decoration: none\;">Acteev&rsquo\;s</span></span><span class="JsGRdQ" style="font-weight: 400\; font-style: normal\; color: rgb(80\, 80\, 80)\; text-decoration: none\;"><span style="font-size:18px\;"> antimicrobial technology kills off all the germs that cause the masks to pick up bad odors. Testing shows the Acteev<span style="font-family:arial\;"> </span><span style="font-family:arial\;">technology deactivates harmful bacteria and airborne viruses.</span></span></span></span><br />\n<span style="font-size:18px\;"><span style="font-family:arial\;"><span class="JsGRdQ" style="font-weight: 400\; font-style: normal\; color: rgb(80\, 80\, 80)\; text-decoration: none\;">Questions?</span><span class="JsGRdQ" style="font-weight: 400\; font-style: normal\; color: rgb(51\, 136\, 68)\; text-decoration: none\;"> Christinep@royaloakchamber.com</span></span></span><span class="JsGRdQ white-space-prewrap" style="font-weight: 400\; font-style: normal\; color: rgb(51\, 136\, 68)\; text-decoration: none\;"> </span></p>\n
LOCATION:Pick up your FREE masks by coming to the ROCC office (200 S. Washington). Mask required to enter the office.
UID:e.2933.3474
SEQUENCE:3
DTSTAMP:20260425T153610Z
URL:https://www.royaloakchamber.com/events/details/free-mask-give-a-way-courtsey-of-ascend-performance-materials-3474
END:VEVENT

END:VCALENDAR
