BEGIN:VCALENDAR
VERSION:2.0
PRODID:-//ChamberMaster//Event Calendar 2.0//EN
METHOD:PUBLISH
X-PUBLISHED-TTL:P3D
REFRESH-INTERVAL:P3D
CALSCALE:GREGORIAN
BEGIN:VEVENT
DTSTART:20230918T160000Z
DTEND:20230918T173000Z
X-MICROSOFT-CDO-ALLDAYEVENT:FALSE
SUMMARY:Legislative Forum and Luncheon
DESCRIPTION:The goal of this event is to provide business leaders and local/regional stakeholders an update on current initiatives. Our panel will discuss how local\, state\, and federal elected officials are working together to achieve these goals. \n\n\n\nYour ticket cost of $30.00 includes lunch provided by Brown Iron Brewhouse. Early registration open to Royal Oak Chamber Members! \n\n\n\nConfirmed panel participants: State Senator Mallory McMorrow\, State Representative Helena Scott\, Oakland County Board of Commissioner Chairman\, David Woodward & City of Royal Oak Mayor\, Michael Fournier.
X-ALT-DESC;FMTTYPE=text/html:<br />\nThe goal of this event is to provide business leaders and local/regional stakeholders an update on current initiatives. Our panel will discuss how local\, state\, and federal elected officials are working together to achieve these goals.&nbsp\;<br />\n<br />\nYour ticket cost of $30.00 includes lunch provided by Brown Iron Brewhouse. Early registration open to Royal Oak Chamber Members!&nbsp\;<br />\n<br />\n<strong>Confirmed panel participants:</strong> <strong>State Senator Mallory McMorrow\, State Representative Helena Scott\, Oakland County Board of Commissioner Chairman\, David Woodward &amp\; City of Royal Oak Mayor\, Michael Fournier.</strong>
LOCATION:Brown Iron Brewhouse 30995 Woodward Ave. Ste 510 Royal Oak\, MI 48073
UID:e.2933.4124
SEQUENCE:3
DTSTAMP:20260419T140755Z
URL:https://www.royaloakchamber.com/events/details/legislative-forum-and-luncheon-4124
END:VEVENT

END:VCALENDAR
