BEGIN:VCALENDAR
VERSION:2.0
PRODID:-//ChamberMaster//Event Calendar 2.0//EN
METHOD:PUBLISH
X-PUBLISHED-TTL:P3D
REFRESH-INTERVAL:P3D
CALSCALE:GREGORIAN
BEGIN:VEVENT
DTSTART:20201204T190000Z
DTEND:20201204T200000Z
X-MICROSOFT-CDO-ALLDAYEVENT:FALSE
SUMMARY:Nest Egging: Money Today\, Wealth Tomorrow
DESCRIPTION:Cost: No Charge   Learn the benefits of saving now   Learn tools to help you save easier   Learn different ways to save
X-ALT-DESC;FMTTYPE=text/html:Cost: No Charge &bull\; Learn the benefits of saving now &bull\; Learn tools to help you save easier &bull\; Learn different ways to save
LOCATION:Webinar
UID:e.2933.3458
SEQUENCE:3
DTSTAMP:20260425T184438Z
URL:https://www.royaloakchamber.com/events/details/nest-egging-money-today-wealth-tomorrow-12-04-2020-3458
END:VEVENT

END:VCALENDAR
