BEGIN:VCALENDAR
VERSION:2.0
PRODID:-//ChamberMaster//Event Calendar 2.0//EN
METHOD:PUBLISH
X-PUBLISHED-TTL:P3D
REFRESH-INTERVAL:P3D
CALSCALE:GREGORIAN
BEGIN:VEVENT
DTSTART:20201215T160000Z
DTEND:20201215T170000Z
X-MICROSOFT-CDO-ALLDAYEVENT:FALSE
SUMMARY:Pivoting your Business to Thrive in a New Environment
DESCRIPTION:Cost: No Charge Successful businesses pivot to adjust to changing times. New business realities due to COVID-19 require that many new and well-established businesses re-evaluate their business models. This virtual workshop covers three areas of your business that hold clues on how to successfully pivot your business and stay alive. This workshop is for existing and startup businesses.
X-ALT-DESC;FMTTYPE=text/html:Cost: No Charge Successful businesses pivot to adjust to changing times. New business realities due to COVID-19 require that many new and well-established businesses re-evaluate their business models. This virtual workshop covers three areas of your business that hold clues on how to successfully pivot your business and stay alive. This workshop is for existing and startup businesses.
LOCATION:Webinar
UID:e.2933.3469
SEQUENCE:3
DTSTAMP:20260425T201134Z
URL:https://www.royaloakchamber.com/events/details/pivoting-your-business-to-thrive-in-a-new-environment-12-15-2020-3469
END:VEVENT

END:VCALENDAR
