BEGIN:VCALENDAR
VERSION:2.0
PRODID:-//ChamberMaster//Event Calendar 2.0//EN
METHOD:PUBLISH
X-PUBLISHED-TTL:P3D
REFRESH-INTERVAL:P3D
CALSCALE:GREGORIAN
BEGIN:VEVENT
DTSTART:20201222T180000Z
DTEND:20201222T190000Z
X-MICROSOFT-CDO-ALLDAYEVENT:FALSE
SUMMARY:Projecting Cash Flow – Overcoming Business Interruptions and Beyond
DESCRIPTION:Cost: No Charge Projecting Cash Flow is designed for individuals who need a better understanding of the cash demands required to successfully manage a business before\, during and after critical interruptions. The use and concepts of the Cash Flow Projection workbook will be discussed. Having a good system in place to manage cash flow will contribute to your organization's success now and in the future. "This may be the most important class a small business owner will ever take!" This workshop is designed to help existing businesses.
X-ALT-DESC;FMTTYPE=text/html:Cost: No Charge Projecting Cash Flow is designed for individuals who need a better understanding of the cash demands required to successfully manage a business before\, during and after critical interruptions. The use and concepts of the Cash Flow Projection workbook will be discussed. Having a good system in place to manage cash flow will contribute to your organization&rsquo\;s success now and in the future. &ldquo\;This may be the most important class a small business owner will ever take!&rdquo\; This workshop is designed to help existing businesses.
LOCATION:Webinar
UID:e.2933.3468
SEQUENCE:3
DTSTAMP:20260425T200926Z
URL:https://www.royaloakchamber.com/events/details/projecting-cash-flow-overcoming-business-interruptions-and-beyond-12-22-2020-3468
END:VEVENT

END:VCALENDAR
