BEGIN:VCALENDAR
VERSION:2.0
PRODID:-//ChamberMaster//Event Calendar 2.0//EN
METHOD:PUBLISH
X-PUBLISHED-TTL:P3D
REFRESH-INTERVAL:P3D
CALSCALE:GREGORIAN
BEGIN:VEVENT
DTSTART:20201028T140000Z
DTEND:20201028T150000Z
X-MICROSOFT-CDO-ALLDAYEVENT:FALSE
SUMMARY:Resumés: A Deeper Dive
DESCRIPTION:How Technology Impacts Job Searches Importance of Key Words Structuring A Resume to Secure an Interview Multiple sessions to choose from. The workshops will be recorded so people can view them at a later date at OaklandCountyMIWorks.com.
X-ALT-DESC;FMTTYPE=text/html:How Technology Impacts Job Searches Importance of Key Words Structuring A Resume to Secure an Interview Multiple sessions to choose from. The workshops will be recorded so people can view them at a later date at OaklandCountyMIWorks.com.
LOCATION:Online Event
UID:e.2933.3422
SEQUENCE:3
DTSTAMP:20260425T215309Z
URL:https://www.royaloakchamber.com/events/details/resum&#233;s-a-deeper-dive-10-28-2020-3422
END:VEVENT

END:VCALENDAR
