BEGIN:VCALENDAR
VERSION:2.0
PRODID:-//ChamberMaster//Event Calendar 2.0//EN
METHOD:PUBLISH
X-PUBLISHED-TTL:P3D
REFRESH-INTERVAL:P3D
CALSCALE:GREGORIAN
BEGIN:VEVENT
DTSTART:20240912T160000Z
DTEND:20240912T163000Z
X-MICROSOFT-CDO-ALLDAYEVENT:FALSE
SUMMARY:Ribbon Cutting Ceremony Plum Health Direct Primary Care
DESCRIPTION:Please join us in welcoming Plum Health Direct Primary Care to the Royal Oak Chamber on September 12. The Ribbon Cutting Ceremony will be held at noon. Please come and support our newest member!
X-ALT-DESC;FMTTYPE=text/html:<br />\nPlease join us in welcoming&nbsp\;Plum Health Direct Primary Care to the Royal Oak Chamber on September 12. The Ribbon Cutting Ceremony will be held at noon. Please come and support our newest member!&nbsp\;
LOCATION:Plum Health Direct Primary Care 26154 Woodward Ave. Suite B Royal Oak\, MI 48067
UID:e.2933.4429
SEQUENCE:3
DTSTAMP:20260422T101146Z
URL:https://www.royaloakchamber.com/events/details/ribbon-cutting-ceremony-plum-health-direct-primary-care-4429
END:VEVENT

END:VCALENDAR
