BEGIN:VCALENDAR
VERSION:2.0
PRODID:-//ChamberMaster//Event Calendar 2.0//EN
METHOD:PUBLISH
X-PUBLISHED-TTL:P3D
REFRESH-INTERVAL:P3D
CALSCALE:GREGORIAN
BEGIN:VEVENT
DTSTART:20211209T220000Z
DTEND:20211209T223000Z
X-MICROSOFT-CDO-ALLDAYEVENT:FALSE
SUMMARY:Ribbon Cutting Foundation Manual Physical Therapy and Performance PLLC
DESCRIPTION:Join us to celebrate Foundation Manual Physical Therapy and Performance PLLC with a Ribbon Cutting Ceremony!
X-ALT-DESC;FMTTYPE=text/html:Join us to celebrate&nbsp\;Foundation Manual Physical Therapy and Performance PLLC with a Ribbon Cutting Ceremony!&nbsp\;
LOCATION:Foundation Manual Physical Therapy and Performance PLLC 120 Catalpa Dr. Royal Oak\, MI 48067
UID:e.2933.3863
SEQUENCE:3
DTSTAMP:20260422T062518Z
URL:https://www.royaloakchamber.com/events/details/ribbon-cutting-foundation-manual-physical-therapy-and-performance-pllc-3863
END:VEVENT

END:VCALENDAR
