BEGIN:VCALENDAR
VERSION:2.0
PRODID:-//ChamberMaster//Event Calendar 2.0//EN
METHOD:PUBLISH
X-PUBLISHED-TTL:P3D
REFRESH-INTERVAL:P3D
CALSCALE:GREGORIAN
BEGIN:VEVENT
DTSTART:20240321T130000Z
DTEND:20240321T143000Z
X-MICROSOFT-CDO-ALLDAYEVENT:FALSE
SUMMARY:State of the Chamber & Awards Ceremony 2024
DESCRIPTION:2024 State of the Chamber and Awards Ceremony \n\nPresented by Citizens State Bank\nJoin us for Business over Breakfast. Dress Code: Business casual\, men must have a collared shirt. Nice jeans are accepted\, jeans with holes are not permitted. \n\n\n\nThe State of the Chamber | VIP Celebration gives our new Chairman of the Board\, Michael Pesendorfer\, the opportunity to share key insights about the activities\, goals and state of the Chamber.\n\n\n\nIn addition\, you will hear from our networking groups\, BWN & Network First.  Awards will be presented to the Business of the Year\, Ambassador of the Year\, Rick Johnson Chamber Champion & Business Beautifications. \n\n\n\nIncluded in your ticket price is a buffet breakfast with eggs\, meat\, pastries\, fruit\, coffee and more! \n\n\n\nWe have concluded the nomination collection process. Stay tuned for our winners! Thank you to those that nominated a deserving business. \n\n\n\nPlease email Heatherz@royaloakchamber.com for information on sponsorship opportunities!
X-ALT-DESC;FMTTYPE=text/html:<p><span style="font-size:18px\;">2024&nbsp\;State of the Chamber and Awards Ceremony&nbsp\;<br />\n<strong>Presented by Citizens State Bank</strong></span></p>\n<span style="font-size:18px\;">Join us for Business over Breakfast. Dress Code: Business casual\, men must have a collared shirt. Nice jeans are accepted\, jeans with holes are not permitted.&nbsp\;<br />\n<br />\n<span style="color: rgb(51\, 51\, 51)\;">The State of the Chamber | VIP Celebration gives our new Chairman of the Board\, Michael Pesendorfer\, the opportunity to share key insights about the activities\, goals and state of the Chamber.<br />\n<br />\nIn addition\, you will hear from our networking groups\, BWN &amp\; Network First.&nbsp\; Awards will be presented to the Business of the Year\, Ambassador of the Year\, Rick Johnson Chamber Champion &amp\; Business Beautifications.&nbsp\;<br />\n<br />\nIncluded in your ticket price is a buffet breakfast with eggs\, meat\, pastries\, fruit\, coffee and more!&nbsp\;</span><br />\n<br />\nWe have concluded the nomination collection process. Stay tuned for our winners! Thank you to those that nominated a deserving business.&nbsp\;<br />\n<br />\nPlease email <a href="http://heatherz@royaloakchamber.com">Heatherz@royaloakchamber.com</a> for information on sponsorship opportunities!&nbsp\;</span><br />\n<br />\n<br />\n&nbsp\;
LOCATION:Red Run Golf Club 2036 Rochester Rd. Royal Oak\, MI 48073
UID:e.2933.4177
SEQUENCE:3
DTSTAMP:20260420T015448Z
URL:https://www.royaloakchamber.com/events/details/state-of-the-chamber-awards-ceremony-2024-4177
END:VEVENT

END:VCALENDAR
